BEGIN:VCALENDAR
VERSION:2.0
PRODID:-//Tukios.com/
BEGIN:VEVENT
UID:eceb3526-2422-453a-a922-b0c71a571a77@www.walker-mortuary.com
DTSTAMP:20260422T234819Z
DTSTART:20260425
SUMMARY:Interment
DESCRIPTION:
URL:https://www.walker-mortuary.com/obituaries/amy-green
LOCATION: 335 S State St  Morgan UT 84050
GEO:41.0301489;-111.6709167
END:VEVENT
END:VCALENDAR