BEGIN:VCALENDAR
VERSION:2.0
PRODID:-//Tukios.com/
BEGIN:VEVENT
UID:5725b4af-a3bc-49eb-b160-7f149cc5ddc3@www.walker-mortuary.com
DTSTAMP:20260422T234711Z
DTSTART:20260425T170000Z
DTEND:20260425T180000Z
SUMMARY:Funeral Service
DESCRIPTION:
URL:https://www.walker-mortuary.com/obituaries/amy-green
LOCATION: 355 N 700 E  Morgan UT 84050
GEO:41.0484594;-111.6752952
END:VEVENT
END:VCALENDAR