BEGIN:VCALENDAR
VERSION:2.0
PRODID:-//Tukios.com/
BEGIN:VEVENT
UID:df712d3d-8470-4403-9965-ebbc51b92fc7@www.walker-mortuary.com
DTSTAMP:20260422T234838Z
DTSTART:20260425T150000Z
DTEND:20260425T163000Z
SUMMARY:Viewing
DESCRIPTION:
URL:https://www.walker-mortuary.com/obituaries/amy-green
LOCATION: 355 N 700 E  Morgan UT 84050
GEO:41.0484594;-111.6752952
END:VEVENT
END:VCALENDAR