BEGIN:VCALENDAR
VERSION:2.0
PRODID:-//Tukios.com/
BEGIN:VEVENT
UID:8796decb-d7b3-436c-a533-7550b36c321e@www.walker-mortuary.com
DTSTAMP:20260420T184341Z
DTSTART:20260424
SUMMARY:Interment
DESCRIPTION:
URL:https://www.walker-mortuary.com/obituaries/alan-turner
LOCATION: 335 S State St  Morgan UT 84050
GEO:41.0301489;-111.6709167
END:VEVENT
END:VCALENDAR