BEGIN:VCALENDAR
VERSION:2.0
PRODID:-//Tukios.com/
BEGIN:VEVENT
UID:bc350010-2654-4acc-b192-c2484b65f8c4@www.walker-mortuary.com
DTSTAMP:20260420T184800Z
DTSTART:20260424T170000Z
DTEND:20260424T180000Z
SUMMARY:Funeral Service
DESCRIPTION:
URL:https://www.walker-mortuary.com/obituaries/alan-turner
LOCATION:Church of Jesus Christ of Latter Day Saints 5378 West Old 
	Highway Road  Mountain Green UT 84050
GEO:41.1431215;-111.8042099
END:VEVENT
END:VCALENDAR