BEGIN:VCALENDAR
VERSION:2.0
PRODID:-//Tukios.com/
BEGIN:VEVENT
UID:78e0fb2d-8748-4ebd-9577-0275b58e2e08@www.walker-mortuary.com
DTSTAMP:20260420T184247Z
DTSTART:20260424T150000Z
DTEND:20260424T163000Z
SUMMARY:Viewing
DESCRIPTION:
URL:https://www.walker-mortuary.com/obituaries/alan-turner
LOCATION:Church of Jesus Christ of Latter Day Saints 5378 West Old 
	Highway Road  Mountain Green UT 84050
GEO:41.1431215;-111.8042099
END:VEVENT
END:VCALENDAR