BEGIN:VCALENDAR
VERSION:2.0
PRODID:-//Tukios.com/
BEGIN:VEVENT
UID:c70d1f2a-3dd7-44e2-b9ed-16bd678e8aaa@www.walker-mortuary.com
DTSTAMP:20260420T184800Z
DTSTART:20260424T000000Z
DTEND:20260424T020000Z
SUMMARY:Viewing
DESCRIPTION:
URL:https://www.walker-mortuary.com/obituaries/alan-turner
LOCATION:Church of Jesus Christ of Latter Day Saints 5378 West Old 
	Highway Road  Mountain Green UT 84050
GEO:41.1431215;-111.8042099
END:VEVENT
END:VCALENDAR